BEGIN:VCALENDAR
VERSION:2.0
PRODID:-//New Siloam Ministries - ECPv6.15.10//NONSGML v1.0//EN
CALSCALE:GREGORIAN
METHOD:PUBLISH
X-WR-CALNAME:New Siloam Ministries
X-ORIGINAL-URL:http://newsiloam.org
X-WR-CALDESC:Events for New Siloam Ministries
REFRESH-INTERVAL;VALUE=DURATION:PT1H
X-Robots-Tag:noindex
X-PUBLISHED-TTL:PT1H
BEGIN:VTIMEZONE
TZID:America/Denver
BEGIN:DAYLIGHT
TZOFFSETFROM:-0700
TZOFFSETTO:-0600
TZNAME:MDT
DTSTART:20130310T090000
END:DAYLIGHT
BEGIN:STANDARD
TZOFFSETFROM:-0600
TZOFFSETTO:-0700
TZNAME:MST
DTSTART:20131103T080000
END:STANDARD
BEGIN:DAYLIGHT
TZOFFSETFROM:-0700
TZOFFSETTO:-0600
TZNAME:MDT
DTSTART:20140309T090000
END:DAYLIGHT
BEGIN:STANDARD
TZOFFSETFROM:-0600
TZOFFSETTO:-0700
TZNAME:MST
DTSTART:20141102T080000
END:STANDARD
BEGIN:DAYLIGHT
TZOFFSETFROM:-0700
TZOFFSETTO:-0600
TZNAME:MDT
DTSTART:20150308T090000
END:DAYLIGHT
BEGIN:STANDARD
TZOFFSETFROM:-0600
TZOFFSETTO:-0700
TZNAME:MST
DTSTART:20151101T080000
END:STANDARD
END:VTIMEZONE
BEGIN:VEVENT
DTSTART;TZID=America/Denver:20141106T190000
DTEND;TZID=America/Denver:20141106T203000
DTSTAMP:20260423T133009
CREATED:20141021T184037Z
LAST-MODIFIED:20141103T194938Z
UID:64-1415300400-1415305800@newsiloam.org
SUMMARY:Low Back Pain and Other Joint Pain
DESCRIPTION:Steve Hogg will give a free Faith n’ Food Forum on reversing low back pain and other joint pain\, Thursday\, November 6th\, at 7:00 p.m.\, at Steve and Lisa Plog’s home in Altadena. \nSteve was certified in Circular Strength Training (CST) in 2009 and then became a CST Coach in 2011. In 2014 he was recertified as a CST coach and then certified as a TACFIT instructor as well. Steve will demonstrate simple exercises that can be done at home to help you reverse (and heal) low back pain. \nPlease RSVP to steve@newsiloam.org and tell us how many people you’ll be bringing. We will reply with the address of the Plogs’ home. \nThis is open to ALL current and former Our Little Market members and their guests.
URL:http://newsiloam.org/event/low-back-pain/
LOCATION:Private Home
CATEGORIES:Faith & Food Forum
END:VEVENT
BEGIN:VEVENT
DTSTART;TZID=America/Denver:20140806T190000
DTEND;TZID=America/Denver:20140806T210000
DTSTAMP:20260423T133009
CREATED:20140915T170144Z
LAST-MODIFIED:20140916T024841Z
UID:48-1407351600-1407358800@newsiloam.org
SUMMARY:Film Screening: "The Greater Good"
DESCRIPTION:Please Note: This is a FREE private showing open only to current and former Our Little Market members and their guests. Please RSVP if you plan to attend. \nVaccines are touted as the best answer to preventing diseases\, but are they? \nI was able to meet the producer of The Greater Good three years ago and thank her for making such a powerful film. If you have any concerns about the safety and efficacy of vaccines\, please\, come to this screening. \nHealthy RAW Lemon Cream popsicles will be available that night for everyone who comes for a suggested donation of $1 each. \nThis award winning film will be followed by a Q & A. \nWatch the trailer: \n \nNOTE: This forum is not intended to diagnose\, treat\, or cure any disease. All participants are encouraged to make their OWN decisions about their OWN health care in consultation with their OWN qualified health care professionals.
URL:http://newsiloam.org/event/film-screening-the-greater-good/
LOCATION:William Carey International University\, 1539 E. Howard St.\, Pasadena\, CA\, 91104\, United States
CATEGORIES:Faith & Food Forum,Film
END:VEVENT
END:VCALENDAR